Workbook
Name DeviceTypes: Tabelle2!$B$4:$B$7
Name OpenHabDefs: Tabelle2!$B$4:$F$7

Sheet Tabelle1
A2: FAM Base ID | B2: aabbcc00 | D2: Bridge Id | E2: abcdef01
A3: EnoceanPI Base Id | B3: ddeeff80
A6: Id | B6: Thing name | C6: Thing id | D6: EnoceanPI Id | E6: Device Type | F6: Thing definition | G6: Item 1 | H6: Item 2
A7: 1 | B7: Kitchen_Light | C7: =DEC2HEX(HEX2DEC($B$2) + $A7) -> AABBCC01 | D7: =DEC2HEX(HEX2DEC($B$3) + $A7) -> DDEEFF81 | E7: FSB14 | F7: =IF(OR(ISBLANK($E7),ISBLANK(VLOOKUP($E7,OpenHabDefs,3,FALSE))),"", SUBSTITUTE(SUBSTITUTE(SUBSTITUTE(VLOOKUP($E7,OpenHabDefs,3,FALSE),"[0]",$C7),"[1]",$B7),"[2]",$A7)) -> Thing openocean:eltakoFSB:abcdef01:AABBCC01 "Kitchen_Light" (openocean:bridge:abcdef01) [senderIdOffset=1, sendingEEPId="A5_3F_7F_EltakoFSB", receivingEEPId="A5_3F_7F_EltakoFSB", broadcastMessages=true] | G7: =IF(OR(ISBLANK($E7),ISBLANK(VLOOKUP($E7,OpenHabDefs,4,FALSE))),"", SUBSTITUTE(SUBSTITUTE(SUBSTITUTE(VLOOKUP($E7,OpenHabDefs,4,FALSE),"[0]",$C7),"[1]",$B7),"[2]",$A7)) -> Rollershutter Kitchen_Light_Rollershutter "Kitchen_Light" <blinds> {channel="openocean:eltakoFSB:abcdef01:AABBCC01:rollershutter"} | H7: =IF(OR(ISBLANK($E7),ISBLANK(VLOOKUP($E7,OpenHabDefs,5,FALSE))),"", SUBSTITUTE(SUBSTITUTE(SUBSTITUTE(VLOOKUP($E7,OpenHabDefs,5,FALSE),"[0]",$C7),"[1]",$B7),"[2]",$A7))
A8: 2 | B8: Office_Dimmer | C8: =DEC2HEX(HEX2DEC($B$2) + $A8) -> AABBCC02 | D8: =DEC2HEX(HEX2DEC($B$3) + $A8) -> DDEEFF82 | E8: FUD14 | F8: =IF(OR(ISBLANK($E8),ISBLANK(VLOOKUP($E8,OpenHabDefs,3,FALSE))),"", SUBSTITUTE(SUBSTITUTE(SUBSTITUTE(VLOOKUP($E8,OpenHabDefs,3,FALSE),"[0]",$C8),"[1]",$B8),"[2]",$A8)) -> Thing openocean:centralCommand:abcdef01:AABBCC02 "Office_Dimmer" (openocean:bridge:abcdef01) [senderIdOffset=2, sendingEEPId="A5_38_08_02", receivingEEPId="A5_38_08_02", broadcastMessages=true] | G8: =IF(OR(ISBLANK($E8),ISBLANK(VLOOKUP($E8,OpenHabDefs,4,FALSE))),"", SUBSTITUTE(SUBSTITUTE(SUBSTITUTE(VLOOKUP($E8,OpenHabDefs,4,FALSE),"[0]",$C8),"[1]",$B8),"[2]",$A8)) -> Dimmer Office_Dimmer_Dimmer "Office_Dimmer" <light> {channel="openocean:centralCommand:abcdef01:AABBCC02:dimmer"} | H8: =IF(OR(ISBLANK($E8),ISBLANK(VLOOKUP($E8,OpenHabDefs,5,FALSE))),"", SUBSTITUTE(SUBSTITUTE(SUBSTITUTE(VLOOKUP($E8,OpenHabDefs,5,FALSE),"[0]",$C8),"[1]",$B8),"[2]",$A8))
A9: 3 | B9: Office_Rollershutter | C9: =DEC2HEX(HEX2DEC($B$2) + $A9) -> AABBCC03 | D9: =DEC2HEX(HEX2DEC($B$3) + $A9) -> DDEEFF83 | E9: FSR14 | F9: =IF(OR(ISBLANK($E9),ISBLANK(VLOOKUP($E9,OpenHabDefs,3,FALSE))),"", SUBSTITUTE(SUBSTITUTE(SUBSTITUTE(VLOOKUP($E9,OpenHabDefs,3,FALSE),"[0]",$C9),"[1]",$B9),"[2]",$A9)) -> Thing openocean:centralCommand:abcdef01:AABBCC03 "Office_Rollershutter" (openocean:bridge:abcdef01) [senderIdOffset=3, sendingEEPId="A5_38_08_01", receivingEEPId="F6_00_00", broadcastMessages=true] | G9: =IF(OR(ISBLANK($E9),ISBLANK(VLOOKUP($E9,OpenHabDefs,4,FALSE))),"", SUBSTITUTE(SUBSTITUTE(SUBSTITUTE(VLOOKUP($E9,OpenHabDefs,4,FALSE),"[0]",$C9),"[1]",$B9),"[2]",$A9)) -> Switch Office_Rollershutter_Switch "Office_Rollershutter" <light> {channel="openocean:centralCommand:abcdef01:AABBCC03:lightSwitch"} | H9: =IF(OR(ISBLANK($E9),ISBLANK(VLOOKUP($E9,OpenHabDefs,5,FALSE))),"", SUBSTITUTE(SUBSTITUTE(SUBSTITUTE(VLOOKUP($E9,OpenHabDefs,5,FALSE),"[0]",$C9),"[1]",$B9),"[2]",$A9))
F10: =IF(OR(ISBLANK($E10),ISBLANK(VLOOKUP($E10,OpenHabDefs,3,FALSE))),"", SUBSTITUTE(SUBSTITUTE(SUBSTITUTE(VLOOKUP($E10,OpenHabDefs,3,FALSE),"[0]",$C10),"[1]",$B10),"[2]",$A10)) | G10: =IF(OR(ISBLANK($E10),ISBLANK(VLOOKUP($E10,OpenHabDefs,4,FALSE))),"", SUBSTITUTE(SUBSTITUTE(SUBSTITUTE(VLOOKUP($E10,OpenHabDefs,4,FALSE),"[0]",$C10),"[1]",$B10),"[2]",$A10)) | H10: =IF(OR(ISBLANK($E10),ISBLANK(VLOOKUP($E10,OpenHabDefs,5,FALSE))),"", SUBSTITUTE(SUBSTITUTE(SUBSTITUTE(VLOOKUP($E10,OpenHabDefs,5,FALSE),"[0]",$C10),"[1]",$B10),"[2]",$A10))
F11: =IF(OR(ISBLANK($E11),ISBLANK(VLOOKUP($E11,OpenHabDefs,3,FALSE))),"", SUBSTITUTE(SUBSTITUTE(SUBSTITUTE(VLOOKUP($E11,OpenHabDefs,3,FALSE),"[0]",$C11),"[1]",$B11),"[2]",$A11)) | G11: =IF(OR(ISBLANK($E11),ISBLANK(VLOOKUP($E11,OpenHabDefs,4,FALSE))),"", SUBSTITUTE(SUBSTITUTE(SUBSTITUTE(VLOOKUP($E11,OpenHabDefs,4,FALSE),"[0]",$C11),"[1]",$B11),"[2]",$A11)) | H11: =IF(OR(ISBLANK($E11),ISBLANK(VLOOKUP($E11,OpenHabDefs,5,FALSE))),"", SUBSTITUTE(SUBSTITUTE(SUBSTITUTE(VLOOKUP($E11,OpenHabDefs,5,FALSE),"[0]",$C11),"[1]",$B11),"[2]",$A11))
A12: Sensors | F12: =IF(OR(ISBLANK($E12),ISBLANK(VLOOKUP($E12,OpenHabDefs,3,FALSE))),"", SUBSTITUTE(SUBSTITUTE(SUBSTITUTE(VLOOKUP($E12,OpenHabDefs,3,FALSE),"[0]",$C12),"[1]",$B12),"[2]",$A12)) | G12: =IF(OR(ISBLANK($E12),ISBLANK(VLOOKUP($E12,OpenHabDefs,4,FALSE))),"", SUBSTITUTE(SUBSTITUTE(SUBSTITUTE(VLOOKUP($E12,OpenHabDefs,4,FALSE),"[0]",$C12),"[1]",$B12),"[2]",$A12)) | H12: =IF(OR(ISBLANK($E12),ISBLANK(VLOOKUP($E12,OpenHabDefs,5,FALSE))),"", SUBSTITUTE(SUBSTITUTE(SUBSTITUTE(VLOOKUP($E12,OpenHabDefs,5,FALSE),"[0]",$C12),"[1]",$B12),"[2]",$A12))
B13: Bath_Panel | C13: 12345678 | E13: SR04 | F13: =IF(OR(ISBLANK($E13),ISBLANK(VLOOKUP($E13,OpenHabDefs,3,FALSE))),"", SUBSTITUTE(SUBSTITUTE(SUBSTITUTE(VLOOKUP($E13,OpenHabDefs,3,FALSE),"[0]",$C13),"[1]",$B13),"[2]",$A13)) -> Thing openocean:roomOperatingPanel:abcdef01:12345678 "Bath_Panel" (openocean:bridge:abcdef01) [receivingEEPId="A5_10_06"] | G13: =IF(OR(ISBLANK($E13),ISBLANK(VLOOKUP($E13,OpenHabDefs,4,FALSE))),"", SUBSTITUTE(SUBSTITUTE(SUBSTITUTE(VLOOKUP($E13,OpenHabDefs,4,FALSE),"[0]",$C13),"[1]",$B13),"[2]",$A13)) -> Number Bath_Panel_Temperature "Bath_Panel" <temperature> {channel="openocean:roomOperatingPanel:abcdef01:12345678:temperature"} | H13: =IF(OR(ISBLANK($E13),ISBLANK(VLOOKUP($E13,OpenHabDefs,5,FALSE))),"", SUBSTITUTE(SUBSTITUTE(SUBSTITUTE(VLOOKUP($E13,OpenHabDefs,5,FALSE),"[0]",$C13),"[1]",$B13),"[2]",$A13)) -> Number Bath_Panel_SetPoint "Bath_Panel" {channel="openocean:roomOperatingPanel:abcdef01:12345678:setPoint"}
F14: =IF(OR(ISBLANK($E14),ISBLANK(VLOOKUP($E14,OpenHabDefs,3,FALSE))),"", SUBSTITUTE(SUBSTITUTE(SUBSTITUTE(VLOOKUP($E14,OpenHabDefs,3,FALSE),"[0]",$C14),"[1]",$B14),"[2]",$A14)) | G14: =IF(OR(ISBLANK($E14),ISBLANK(VLOOKUP($E14,OpenHabDefs,4,FALSE))),"", SUBSTITUTE(SUBSTITUTE(SUBSTITUTE(VLOOKUP($E14,OpenHabDefs,4,FALSE),"[0]",$C14),"[1]",$B14),"[2]",$A14)) | H14: =IF(OR(ISBLANK($E14),ISBLANK(VLOOKUP($E14,OpenHabDefs,5,FALSE))),"", SUBSTITUTE(SUBSTITUTE(SUBSTITUTE(VLOOKUP($E14,OpenHabDefs,5,FALSE),"[0]",$C14),"[1]",$B14),"[2]",$A14))
F15: =IF(OR(ISBLANK($E15),ISBLANK(VLOOKUP($E15,OpenHabDefs,3,FALSE))),"", SUBSTITUTE(SUBSTITUTE(SUBSTITUTE(VLOOKUP($E15,OpenHabDefs,3,FALSE),"[0]",$C15),"[1]",$B15),"[2]",$A15)) | G15: =IF(OR(ISBLANK($E15),ISBLANK(VLOOKUP($E15,OpenHabDefs,4,FALSE))),"", SUBSTITUTE(SUBSTITUTE(SUBSTITUTE(VLOOKUP($E15,OpenHabDefs,4,FALSE),"[0]",$C15),"[1]",$B15),"[2]",$A15)) | H15: =IF(OR(ISBLANK($E15),ISBLANK(VLOOKUP($E15,OpenHabDefs,5,FALSE))),"", SUBSTITUTE(SUBSTITUTE(SUBSTITUTE(VLOOKUP($E15,OpenHabDefs,5,FALSE),"[0]",$C15),"[1]",$B15),"[2]",$A15))
F16: =IF(OR(ISBLANK($E16),ISBLANK(VLOOKUP($E16,OpenHabDefs,3,FALSE))),"", SUBSTITUTE(SUBSTITUTE(SUBSTITUTE(VLOOKUP($E16,OpenHabDefs,3,FALSE),"[0]",$C16),"[1]",$B16),"[2]",$A16)) | G16: =IF(OR(ISBLANK($E16),ISBLANK(VLOOKUP($E16,OpenHabDefs,4,FALSE))),"", SUBSTITUTE(SUBSTITUTE(SUBSTITUTE(VLOOKUP($E16,OpenHabDefs,4,FALSE),"[0]",$C16),"[1]",$B16),"[2]",$A16)) | H16: =IF(OR(ISBLANK($E16),ISBLANK(VLOOKUP($E16,OpenHabDefs,5,FALSE))),"", SUBSTITUTE(SUBSTITUTE(SUBSTITUTE(VLOOKUP($E16,OpenHabDefs,5,FALSE),"[0]",$C16),"[1]",$B16),"[2]",$A16))
B49: Diele | C49: 018d9ad8
B50: Gast | C50: 018dfc43
B51: Wohnzimmer | C51: 018dffb2
B52: WC | C52: 018da680
B53: Eltern | C53: 018da054
B54: Zimmer 2 | C54: 018dd675 | G54: Paul
B55: Büro | C55: 018caf37
B56: Zimmer 1 | C56: 018db120 | G56: Kinderzimmer2
B57: Bad | C57: 018d99c8
B58: Empore | C58: 018c1d41

Sheet Tabelle2
B2: Device Name | C2: Thing Type | D2: Thing definition | E2: Item1 definition | F2: Item2 definition
B4: FSR14 | C4: A5-38 Switch | D4: =CONCATENATE("Thing openocean:centralCommand:",Tabelle1!$E$2, ":[0] ""[1]"" (openocean:bridge:", Tabelle1!$E$2, ") [senderIdOffset=[2], sendingEEPId=""A5_38_08_01"", receivingEEPId=""F6_00_00"", broadcastMessages=true]") -> Thing openocean:centralCommand:abcdef01:[0] "[1]" (openocean:bridge:abcdef01) [senderIdOffset=[2], sendingEEPId="A5_38_08_01", receivingEEPId="F6_00_00", broadcastMessages=true] | E4: =CONCATENATE("Switch [1]_Switch ""[1]"" <light> {channel=""openocean:centralCommand:",Tabelle1!$E$2, ":[0]:lightSwitch""}") -> Switch [1]_Switch "[1]" <light> {channel="openocean:centralCommand:abcdef01:[0]:lightSwitch"}
B5: FUD14 | C5: A5-38 Dimming | D5: =CONCATENATE("Thing openocean:centralCommand:",Tabelle1!$E$2, ":[0] ""[1]"" (openocean:bridge:", Tabelle1!$E$2, ") [senderIdOffset=[2], sendingEEPId=""A5_38_08_02"", receivingEEPId=""A5_38_08_02"", broadcastMessages=true]") -> Thing openocean:centralCommand:abcdef01:[0] "[1]" (openocean:bridge:abcdef01) [senderIdOffset=[2], sendingEEPId="A5_38_08_02", receivingEEPId="A5_38_08_02", broadcastMessages=true] | E5: =CONCATENATE("Dimmer [1]_Dimmer ""[1]"" <light> {channel=""openocean:centralCommand:",Tabelle1!$E$2, ":[0]:dimmer""}") -> Dimmer [1]_Dimmer "[1]" <light> {channel="openocean:centralCommand:abcdef01:[0]:dimmer"}
B6: FSB14 | C6: Eltako FSB | D6: =CONCATENATE("Thing openocean:eltakoFSB:",Tabelle1!$E$2, ":[0] ""[1]"" (openocean:bridge:", Tabelle1!$E$2, ") [senderIdOffset=[2], sendingEEPId=""A5_3F_7F_EltakoFSB"", receivingEEPId=""A5_3F_7F_EltakoFSB"", broadcastMessages=true]") -> Thing openocean:eltakoFSB:abcdef01:[0] "[1]" (openocean:bridge:abcdef01) [senderIdOffset=[2], sendingEEPId="A5_3F_7F_EltakoFSB", receivingEEPId="A5_3F_7F_EltakoFSB", broadcastMessages=true] | E6: =CONCATENATE("Rollershutter [1]_Rollershutter ""[1]"" <blinds> {channel=""openocean:eltakoFSB:",Tabelle1!$E$2, ":[0]:rollershutter""}") -> Rollershutter [1]_Rollershutter "[1]" <blinds> {channel="openocean:eltakoFSB:abcdef01:[0]:rollershutter"}
B7: SR04 | C7: A5-10 | D7: =CONCATENATE("Thing openocean:roomOperatingPanel:",Tabelle1!$E$2, ":[0] ""[1]"" (openocean:bridge:", Tabelle1!$E$2, ") [receivingEEPId=""A5_10_06""]") -> Thing openocean:roomOperatingPanel:abcdef01:[0] "[1]" (openocean:bridge:abcdef01) [receivingEEPId="A5_10_06"] | E7: =CONCATENATE("Number [1]_Temperature ""[1]"" <temperature> {channel=""openocean:roomOperatingPanel:",Tabelle1!$E$2, ":[0]:temperature""}") -> Number [1]_Temperature "[1]" <temperature> {channel="openocean:roomOperatingPanel:abcdef01:[0]:temperature"} | F7: =CONCATENATE("Number [1]_SetPoint ""[1]"" {channel=""openocean:roomOperatingPanel:",Tabelle1!$E$2, ":[0]:setPoint""}") -> Number [1]_SetPoint "[1]" {channel="openocean:roomOperatingPanel:abcdef01:[0]:setPoint"}
